BEGIN:VCALENDAR
VERSION:2.0
PRODID:-//Department Of Education//b6a28687-1fb3-49c0-985b-df5dece97bbe
BEGIN:VTIMEZONE
TZID:Australia/Sydney
TZURL:http://tzurl.org/zoneinfo-outlook/Australia/Sydney
X-LIC-LOCATION:Australia/Sydney
BEGIN:STANDARD
TZOFFSETFROM:+1100
TZOFFSETTO:+1000
TZNAME:AEST
DTSTART:19700405T030000
RRULE:FREQ=YEARLY;BYMONTH=4;BYDAY=1SU
END:STANDARD
BEGIN:DAYLIGHT
TZOFFSETFROM:+1000
TZOFFSETTO:+1100
TZNAME:AEDT
DTSTART:19701004T020000
RRULE:FREQ=YEARLY;BYMONTH=10;BYDAY=1SU
END:DAYLIGHT
END:VTIMEZONE
CALSCALE:GREGORIAN
X-WR-TIMEZONE:Australia/Sydney
BEGIN:VEVENT
DTSTART;VALUE=DATE:20180504
DTEND;VALUE=DATE:20180505
DTSTAMP:20180504T000000Z
UID:6dbde839-a66f-40be-bfe0-4a83427b1605
LOCATION:
SUMMARY;LANGUAGE=en-us:Year 11 RYDA Day Coonabarabran
SEQUENCE:0
DESCRIPTION:Year 11 RYDA Day Coonabarabran
END:VEVENT
TRANSP:TRANSPARENT
END:VCALENDAR
