BEGIN:VCALENDAR
VERSION:2.0
PRODID:-//Department Of Education//88543e86-f38b-4698-b61c-77c664489930
BEGIN:VTIMEZONE
TZID:Australia/Sydney
TZURL:http://tzurl.org/zoneinfo-outlook/Australia/Sydney
X-LIC-LOCATION:Australia/Sydney
BEGIN:STANDARD
TZOFFSETFROM:+1100
TZOFFSETTO:+1000
TZNAME:AEST
DTSTART:19700405T030000
RRULE:FREQ=YEARLY;BYMONTH=4;BYDAY=1SU
END:STANDARD
BEGIN:DAYLIGHT
TZOFFSETFROM:+1000
TZOFFSETTO:+1100
TZNAME:AEDT
DTSTART:19701004T020000
RRULE:FREQ=YEARLY;BYMONTH=10;BYDAY=1SU
END:DAYLIGHT
END:VTIMEZONE
CALSCALE:GREGORIAN
X-WR-TIMEZONE:Australia/Sydney
BEGIN:VEVENT
DTSTART;VALUE=DATE:20180528
DTEND;VALUE=DATE:20180529
DTSTAMP:20180528T000000Z
UID:7edeb1b9-9385-4aab-9df2-4adbb51149cb
LOCATION:
SUMMARY;LANGUAGE=en-us:Prim Zone Netball
SEQUENCE:0
DESCRIPTION:Prim Zone Netball
END:VEVENT
TRANSP:TRANSPARENT
END:VCALENDAR
