BEGIN:VCALENDAR
VERSION:2.0
PRODID:-//Department Of Education//17ddd90e-6456-427f-8613-838a13601520
BEGIN:VTIMEZONE
TZID:Australia/Sydney
TZURL:http://tzurl.org/zoneinfo-outlook/Australia/Sydney
X-LIC-LOCATION:Australia/Sydney
BEGIN:STANDARD
TZOFFSETFROM:+1100
TZOFFSETTO:+1000
TZNAME:AEST
DTSTART:19700405T030000
RRULE:FREQ=YEARLY;BYMONTH=4;BYDAY=1SU
END:STANDARD
BEGIN:DAYLIGHT
TZOFFSETFROM:+1000
TZOFFSETTO:+1100
TZNAME:AEDT
DTSTART:19701004T020000
RRULE:FREQ=YEARLY;BYMONTH=10;BYDAY=1SU
END:DAYLIGHT
END:VTIMEZONE
CALSCALE:GREGORIAN
X-WR-TIMEZONE:Australia/Sydney
BEGIN:VEVENT
DTSTART;TZID=Australia/Sydney:20180525T100000
DTEND;TZID=Australia/Sydney:20180525T133000
DTSTAMP:20180525T100000Z
UID:9ef992a8-7a99-4ffa-bb17-3d5b05b290a0
LOCATION:
SUMMARY;LANGUAGE=en-us:Prim Zone Cross Country
SEQUENCE:0
DESCRIPTION:Prim Zone Cross Country
END:VEVENT
TRANSP:TRANSPARENT
END:VCALENDAR
