BEGIN:VCALENDAR
VERSION:2.0
PRODID:-//Department Of Education//b196d54f-6d3a-4528-b6de-94be6549211c
BEGIN:VTIMEZONE
TZID:Australia/Sydney
TZURL:http://tzurl.org/zoneinfo-outlook/Australia/Sydney
X-LIC-LOCATION:Australia/Sydney
BEGIN:STANDARD
TZOFFSETFROM:+1100
TZOFFSETTO:+1000
TZNAME:AEST
DTSTART:19700405T030000
RRULE:FREQ=YEARLY;BYMONTH=4;BYDAY=1SU
END:STANDARD
BEGIN:DAYLIGHT
TZOFFSETFROM:+1000
TZOFFSETTO:+1100
TZNAME:AEDT
DTSTART:19701004T020000
RRULE:FREQ=YEARLY;BYMONTH=10;BYDAY=1SU
END:DAYLIGHT
END:VTIMEZONE
CALSCALE:GREGORIAN
X-WR-TIMEZONE:Australia/Sydney
BEGIN:VEVENT
DTSTART;VALUE=DATE:20180502
DTEND;VALUE=DATE:20180503
DTSTAMP:20180502T000000Z
UID:85be032f-f2e7-4701-bbe7-9244dc6b358a
LOCATION:
SUMMARY;LANGUAGE=en-us:Pri Sthn Zone Cricket
SEQUENCE:0
DESCRIPTION:Pri Sthn Zone Cricket
END:VEVENT
TRANSP:TRANSPARENT
END:VCALENDAR
