BEGIN:VCALENDAR
VERSION:2.0
PRODID:-//Department Of Education//4a6d9090-49a7-410e-8759-90dc204eed62
BEGIN:VTIMEZONE
TZID:Australia/Sydney
TZURL:http://tzurl.org/zoneinfo-outlook/Australia/Sydney
X-LIC-LOCATION:Australia/Sydney
BEGIN:STANDARD
TZOFFSETFROM:+1100
TZOFFSETTO:+1000
TZNAME:AEST
DTSTART:19700405T030000
RRULE:FREQ=YEARLY;BYMONTH=4;BYDAY=1SU
END:STANDARD
BEGIN:DAYLIGHT
TZOFFSETFROM:+1000
TZOFFSETTO:+1100
TZNAME:AEDT
DTSTART:19701004T020000
RRULE:FREQ=YEARLY;BYMONTH=10;BYDAY=1SU
END:DAYLIGHT
END:VTIMEZONE
CALSCALE:GREGORIAN
X-WR-TIMEZONE:Australia/Sydney
BEGIN:VEVENT
DTSTART;TZID=Australia/Sydney:20180515T183000
DTEND;TZID=Australia/Sydney:20180515T193000
DTSTAMP:20180515T183000Z
UID:77f2e1cb-12a4-491e-8861-87cc421a0697
LOCATION:
SUMMARY;LANGUAGE=en-us:P. & C. Meeting
SEQUENCE:0
DESCRIPTION:P. & C. Meeting
END:VEVENT
TRANSP:TRANSPARENT
END:VCALENDAR
