BEGIN:VCALENDAR
VERSION:2.0
PRODID:-//Department Of Education//1ecef97f-d491-4488-9056-28a9724275fb
BEGIN:VTIMEZONE
TZID:Australia/Sydney
TZURL:http://tzurl.org/zoneinfo-outlook/Australia/Sydney
X-LIC-LOCATION:Australia/Sydney
BEGIN:STANDARD
TZOFFSETFROM:+1100
TZOFFSETTO:+1000
TZNAME:AEST
DTSTART:19700405T030000
RRULE:FREQ=YEARLY;BYMONTH=4;BYDAY=1SU
END:STANDARD
BEGIN:DAYLIGHT
TZOFFSETFROM:+1000
TZOFFSETTO:+1100
TZNAME:AEDT
DTSTART:19701004T020000
RRULE:FREQ=YEARLY;BYMONTH=10;BYDAY=1SU
END:DAYLIGHT
END:VTIMEZONE
CALSCALE:GREGORIAN
X-WR-TIMEZONE:Australia/Sydney
BEGIN:VEVENT
DTSTART;VALUE=DATE:20180531
DTEND;VALUE=DATE:20180601
DTSTAMP:20180531T000000Z
UID:950c82be-46ed-4865-a910-f90f7a1ec321
LOCATION:
SUMMARY;LANGUAGE=en-us:Opens Touch
SEQUENCE:0
DESCRIPTION:Opens Touch
END:VEVENT
TRANSP:TRANSPARENT
END:VCALENDAR
