BEGIN:VCALENDAR
VERSION:2.0
PRODID:-//Department Of Education//a3f57979-6e16-48b3-b3bd-8000d9011edb
BEGIN:VTIMEZONE
TZID:Australia/Sydney
TZURL:http://tzurl.org/zoneinfo-outlook/Australia/Sydney
X-LIC-LOCATION:Australia/Sydney
BEGIN:STANDARD
TZOFFSETFROM:+1100
TZOFFSETTO:+1000
TZNAME:AEST
DTSTART:19700405T030000
RRULE:FREQ=YEARLY;BYMONTH=4;BYDAY=1SU
END:STANDARD
BEGIN:DAYLIGHT
TZOFFSETFROM:+1000
TZOFFSETTO:+1100
TZNAME:AEDT
DTSTART:19701004T020000
RRULE:FREQ=YEARLY;BYMONTH=10;BYDAY=1SU
END:DAYLIGHT
END:VTIMEZONE
CALSCALE:GREGORIAN
X-WR-TIMEZONE:Australia/Sydney
BEGIN:VEVENT
DTSTART;TZID=Australia/Sydney:20180511T131500
DTEND;TZID=Australia/Sydney:20180511T150000
DTSTAMP:20180511T131500Z
UID:925577b5-2af1-4409-b9a7-6fea7125de58
LOCATION:
SUMMARY;LANGUAGE=en-us:Mothers Day Luncheon
SEQUENCE:0
DESCRIPTION:Mothers Day Luncheon
END:VEVENT
TRANSP:TRANSPARENT
END:VCALENDAR
