BEGIN:VCALENDAR
VERSION:2.0
PRODID:-//Department Of Education//20fcba53-84eb-41f7-95e2-ee85cd4c8ff5
BEGIN:VTIMEZONE
TZID:Australia/Sydney
TZURL:http://tzurl.org/zoneinfo-outlook/Australia/Sydney
X-LIC-LOCATION:Australia/Sydney
BEGIN:STANDARD
TZOFFSETFROM:+1100
TZOFFSETTO:+1000
TZNAME:AEST
DTSTART:19700405T030000
RRULE:FREQ=YEARLY;BYMONTH=4;BYDAY=1SU
END:STANDARD
BEGIN:DAYLIGHT
TZOFFSETFROM:+1000
TZOFFSETTO:+1100
TZNAME:AEDT
DTSTART:19701004T020000
RRULE:FREQ=YEARLY;BYMONTH=10;BYDAY=1SU
END:DAYLIGHT
END:VTIMEZONE
CALSCALE:GREGORIAN
X-WR-TIMEZONE:Australia/Sydney
BEGIN:VEVENT
DTSTART;VALUE=DATE:20180504
DTEND;VALUE=DATE:20180505
DTSTAMP:20180504T000000Z
UID:901f1f05-c3fe-4995-8581-3d98c9675f48
LOCATION:
SUMMARY;LANGUAGE=en-us:Kinder/1 Dubbo Zoo
SEQUENCE:0
DESCRIPTION:Kinder/1 Dubbo Zoo
END:VEVENT
TRANSP:TRANSPARENT
END:VCALENDAR
