BEGIN:VCALENDAR
VERSION:2.0
PRODID:-//Department Of Education//685950ef-e899-4dba-a519-4e1b5195f558
BEGIN:VTIMEZONE
TZID:Australia/Sydney
TZURL:http://tzurl.org/zoneinfo-outlook/Australia/Sydney
X-LIC-LOCATION:Australia/Sydney
BEGIN:STANDARD
TZOFFSETFROM:+1100
TZOFFSETTO:+1000
TZNAME:AEST
DTSTART:19700405T030000
RRULE:FREQ=YEARLY;BYMONTH=4;BYDAY=1SU
END:STANDARD
BEGIN:DAYLIGHT
TZOFFSETFROM:+1000
TZOFFSETTO:+1100
TZNAME:AEDT
DTSTART:19701004T020000
RRULE:FREQ=YEARLY;BYMONTH=10;BYDAY=1SU
END:DAYLIGHT
END:VTIMEZONE
CALSCALE:GREGORIAN
X-WR-TIMEZONE:Australia/Sydney
BEGIN:VEVENT
DTSTART;VALUE=DATE:20180529
DTEND;VALUE=DATE:20180530
DTSTAMP:20180529T000000Z
UID:e13ecd1f-ddfe-4656-8470-f2a7e9978cd4
LOCATION:
SUMMARY;LANGUAGE=en-us:ICAS Science
SEQUENCE:0
DESCRIPTION:ICAS Science
END:VEVENT
TRANSP:TRANSPARENT
END:VCALENDAR
