BEGIN:VCALENDAR
VERSION:2.0
PRODID:-//Department Of Education//bc4e9008-e9cd-464b-8404-26f4ec0f8520
BEGIN:VTIMEZONE
TZID:Australia/Sydney
TZURL:http://tzurl.org/zoneinfo-outlook/Australia/Sydney
X-LIC-LOCATION:Australia/Sydney
BEGIN:STANDARD
TZOFFSETFROM:+1100
TZOFFSETTO:+1000
TZNAME:AEST
DTSTART:19700405T030000
RRULE:FREQ=YEARLY;BYMONTH=4;BYDAY=1SU
END:STANDARD
BEGIN:DAYLIGHT
TZOFFSETFROM:+1000
TZOFFSETTO:+1100
TZNAME:AEDT
DTSTART:19701004T020000
RRULE:FREQ=YEARLY;BYMONTH=10;BYDAY=1SU
END:DAYLIGHT
END:VTIMEZONE
CALSCALE:GREGORIAN
X-WR-TIMEZONE:Australia/Sydney
BEGIN:VEVENT
DTSTART;VALUE=DATE:20180508
DTEND;VALUE=DATE:20180509
DTSTAMP:20180508T000000Z
UID:61727226-9ea3-442d-a2a4-d7ad1967338e
LOCATION:
SUMMARY;LANGUAGE=en-us:Dio Cross Country Primary
SEQUENCE:0
DESCRIPTION:Dio Cross Country Primary
END:VEVENT
TRANSP:TRANSPARENT
END:VCALENDAR
