BEGIN:VCALENDAR
VERSION:2.0
PRODID:-//Department Of Education//b40a4081-d0b4-4095-9df7-feed62a0e5ea
BEGIN:VTIMEZONE
TZID:Australia/Sydney
TZURL:http://tzurl.org/zoneinfo-outlook/Australia/Sydney
X-LIC-LOCATION:Australia/Sydney
BEGIN:STANDARD
TZOFFSETFROM:+1100
TZOFFSETTO:+1000
TZNAME:AEST
DTSTART:19700405T030000
RRULE:FREQ=YEARLY;BYMONTH=4;BYDAY=1SU
END:STANDARD
BEGIN:DAYLIGHT
TZOFFSETFROM:+1000
TZOFFSETTO:+1100
TZNAME:AEDT
DTSTART:19701004T020000
RRULE:FREQ=YEARLY;BYMONTH=10;BYDAY=1SU
END:DAYLIGHT
END:VTIMEZONE
CALSCALE:GREGORIAN
X-WR-TIMEZONE:Australia/Sydney
BEGIN:VEVENT
DTSTART;VALUE=DATE:20180517
DTEND;VALUE=DATE:20180518
DTSTAMP:20180517T000000Z
UID:8c7c996f-d970-4eb6-99c9-d23fd132d44b
LOCATION:
SUMMARY;LANGUAGE=en-us:Cross Country & Colour Run
SEQUENCE:0
DESCRIPTION:Cross Country & Colour Run
END:VEVENT
TRANSP:TRANSPARENT
END:VCALENDAR
