BEGIN:VCALENDAR
VERSION:2.0
PRODID:-//Department Of Education//bbcc2a35-8faa-4c19-b718-291890b77b53
BEGIN:VTIMEZONE
TZID:Australia/Sydney
TZURL:http://tzurl.org/zoneinfo-outlook/Australia/Sydney
X-LIC-LOCATION:Australia/Sydney
BEGIN:STANDARD
TZOFFSETFROM:+1100
TZOFFSETTO:+1000
TZNAME:AEST
DTSTART:19700405T030000
RRULE:FREQ=YEARLY;BYMONTH=4;BYDAY=1SU
END:STANDARD
BEGIN:DAYLIGHT
TZOFFSETFROM:+1000
TZOFFSETTO:+1100
TZNAME:AEDT
DTSTART:19701004T020000
RRULE:FREQ=YEARLY;BYMONTH=10;BYDAY=1SU
END:DAYLIGHT
END:VTIMEZONE
CALSCALE:GREGORIAN
X-WR-TIMEZONE:Australia/Sydney
BEGIN:VEVENT
DTSTART;VALUE=DATE:20180504
DTEND;VALUE=DATE:20180505
DTSTAMP:20180504T000000Z
UID:d77337a0-d4c6-4f00-a4be-1271233cf47d
LOCATION:
SUMMARY;LANGUAGE=en-us:CHS Touch - Dunedoo
SEQUENCE:0
DESCRIPTION:CHS Touch - Dunedoo
END:VEVENT
TRANSP:TRANSPARENT
END:VCALENDAR
