BEGIN:VCALENDAR
VERSION:2.0
PRODID:-//Department Of Education//a2a5c4b7-c255-45bb-8f28-e38f2f8616dc
BEGIN:VTIMEZONE
TZID:Australia/Sydney
TZURL:http://tzurl.org/zoneinfo-outlook/Australia/Sydney
X-LIC-LOCATION:Australia/Sydney
BEGIN:STANDARD
TZOFFSETFROM:+1100
TZOFFSETTO:+1000
TZNAME:AEST
DTSTART:19700405T030000
RRULE:FREQ=YEARLY;BYMONTH=4;BYDAY=1SU
END:STANDARD
BEGIN:DAYLIGHT
TZOFFSETFROM:+1000
TZOFFSETTO:+1100
TZNAME:AEDT
DTSTART:19701004T020000
RRULE:FREQ=YEARLY;BYMONTH=10;BYDAY=1SU
END:DAYLIGHT
END:VTIMEZONE
CALSCALE:GREGORIAN
X-WR-TIMEZONE:Australia/Sydney
BEGIN:VEVENT
DTSTART;VALUE=DATE:20180524
DTEND;VALUE=DATE:20180525
DTSTAMP:20180524T000000Z
UID:fe07b9a4-4b24-4e3c-b5b4-db2f063fe1af
LOCATION:
SUMMARY;LANGUAGE=en-us:9/10 TAFE
SEQUENCE:0
DESCRIPTION:9/10 TAFE
END:VEVENT
TRANSP:TRANSPARENT
END:VCALENDAR
