BEGIN:VCALENDAR
VERSION:2.0
PRODID:-//Department Of Education//85340eff-e07f-49c6-9533-aefe7584019f
BEGIN:VTIMEZONE
TZID:Australia/Sydney
TZURL:http://tzurl.org/zoneinfo-outlook/Australia/Sydney
X-LIC-LOCATION:Australia/Sydney
BEGIN:STANDARD
TZOFFSETFROM:+1100
TZOFFSETTO:+1000
TZNAME:AEST
DTSTART:19700405T030000
RRULE:FREQ=YEARLY;BYMONTH=4;BYDAY=1SU
END:STANDARD
BEGIN:DAYLIGHT
TZOFFSETFROM:+1000
TZOFFSETTO:+1100
TZNAME:AEDT
DTSTART:19701004T020000
RRULE:FREQ=YEARLY;BYMONTH=10;BYDAY=1SU
END:DAYLIGHT
END:VTIMEZONE
CALSCALE:GREGORIAN
X-WR-TIMEZONE:Australia/Sydney
BEGIN:VEVENT
DTSTART;VALUE=DATE:20180517
DTEND;VALUE=DATE:20180518
DTSTAMP:20180517T000000Z
UID:93a1f726-18c3-44ac-ad62-184a5cbe7a38
LOCATION:
SUMMARY;LANGUAGE=en-us:9/10 TAFE
SEQUENCE:0
DESCRIPTION:9/10 TAFE
END:VEVENT
TRANSP:TRANSPARENT
END:VCALENDAR
