BEGIN:VCALENDAR
VERSION:2.0
PRODID:-//Department Of Education//1edbd8ef-b40e-4ecb-859d-3d5196b438dd
BEGIN:VTIMEZONE
TZID:Australia/Sydney
TZURL:http://tzurl.org/zoneinfo-outlook/Australia/Sydney
X-LIC-LOCATION:Australia/Sydney
BEGIN:STANDARD
TZOFFSETFROM:+1100
TZOFFSETTO:+1000
TZNAME:AEST
DTSTART:19700405T030000
RRULE:FREQ=YEARLY;BYMONTH=4;BYDAY=1SU
END:STANDARD
BEGIN:DAYLIGHT
TZOFFSETFROM:+1000
TZOFFSETTO:+1100
TZNAME:AEDT
DTSTART:19701004T020000
RRULE:FREQ=YEARLY;BYMONTH=10;BYDAY=1SU
END:DAYLIGHT
END:VTIMEZONE
CALSCALE:GREGORIAN
X-WR-TIMEZONE:Australia/Sydney
BEGIN:VEVENT
DTSTART;VALUE=DATE:20180525
DTEND;VALUE=DATE:20180526
DTSTAMP:20180525T000000Z
UID:3ef659a6-8772-497a-abee-4a736b1338e9
LOCATION:
SUMMARY;LANGUAGE=en-us:9/10 Gulgong Bush Poetry
SEQUENCE:0
DESCRIPTION:9/10 Gulgong Bush Poetry
END:VEVENT
TRANSP:TRANSPARENT
END:VCALENDAR
